BEGIN:VCALENDAR
VERSION:2.0
PRODID:-//Central Nevada Regional Water Authority - ECPv6.15.20//NONSGML v1.0//EN
CALSCALE:GREGORIAN
METHOD:PUBLISH
X-WR-CALNAME:Central Nevada Regional Water Authority
X-ORIGINAL-URL:https://cnrwa.com
X-WR-CALDESC:Events for Central Nevada Regional Water Authority
REFRESH-INTERVAL;VALUE=DURATION:PT1H
X-Robots-Tag:noindex
X-PUBLISHED-TTL:PT1H
BEGIN:VTIMEZONE
TZID:America/Los_Angeles
BEGIN:DAYLIGHT
TZOFFSETFROM:-0800
TZOFFSETTO:-0700
TZNAME:PDT
DTSTART:20200308T100000
END:DAYLIGHT
BEGIN:STANDARD
TZOFFSETFROM:-0700
TZOFFSETTO:-0800
TZNAME:PST
DTSTART:20201101T090000
END:STANDARD
BEGIN:DAYLIGHT
TZOFFSETFROM:-0800
TZOFFSETTO:-0700
TZNAME:PDT
DTSTART:20210314T100000
END:DAYLIGHT
BEGIN:STANDARD
TZOFFSETFROM:-0700
TZOFFSETTO:-0800
TZNAME:PST
DTSTART:20211107T090000
END:STANDARD
BEGIN:DAYLIGHT
TZOFFSETFROM:-0800
TZOFFSETTO:-0700
TZNAME:PDT
DTSTART:20220313T100000
END:DAYLIGHT
BEGIN:STANDARD
TZOFFSETFROM:-0700
TZOFFSETTO:-0800
TZNAME:PST
DTSTART:20221106T090000
END:STANDARD
END:VTIMEZONE
BEGIN:VEVENT
DTSTART;TZID=America/Los_Angeles:20210301T160000
DTEND;TZID=America/Los_Angeles:20210301T160000
DTSTAMP:20260423T174242
CREATED:20210226T031910Z
LAST-MODIFIED:20210226T032808Z
UID:1064-1614614400-1614614400@cnrwa.com
SUMMARY:Assembly Committee on Natural Resources hearing on AB5 & AB6
DESCRIPTION:https://www.leg.state.nv.us/App/NELIS/REL/81st2021/Meeting/8862?p=1008862
URL:https://cnrwa.com/event/assembly-committee-on-natural-resources-hearing-on-ab5-ab6/
LOCATION:Virtual
END:VEVENT
END:VCALENDAR