BEGIN:VCALENDAR
VERSION:2.0
PRODID:-//Central Nevada Regional Water Authority - ECPv6.15.20//NONSGML v1.0//EN
CALSCALE:GREGORIAN
METHOD:PUBLISH
X-WR-CALNAME:Central Nevada Regional Water Authority
X-ORIGINAL-URL:https://cnrwa.com
X-WR-CALDESC:Events for Central Nevada Regional Water Authority
REFRESH-INTERVAL;VALUE=DURATION:PT1H
X-Robots-Tag:noindex
X-PUBLISHED-TTL:PT1H
BEGIN:VTIMEZONE
TZID:America/Los_Angeles
BEGIN:DAYLIGHT
TZOFFSETFROM:-0800
TZOFFSETTO:-0700
TZNAME:PDT
DTSTART:20210314T100000
END:DAYLIGHT
BEGIN:STANDARD
TZOFFSETFROM:-0700
TZOFFSETTO:-0800
TZNAME:PST
DTSTART:20211107T090000
END:STANDARD
BEGIN:DAYLIGHT
TZOFFSETFROM:-0800
TZOFFSETTO:-0700
TZNAME:PDT
DTSTART:20220313T100000
END:DAYLIGHT
BEGIN:STANDARD
TZOFFSETFROM:-0700
TZOFFSETTO:-0800
TZNAME:PST
DTSTART:20221106T090000
END:STANDARD
BEGIN:DAYLIGHT
TZOFFSETFROM:-0800
TZOFFSETTO:-0700
TZNAME:PDT
DTSTART:20230312T100000
END:DAYLIGHT
BEGIN:STANDARD
TZOFFSETFROM:-0700
TZOFFSETTO:-0800
TZNAME:PST
DTSTART:20231105T090000
END:STANDARD
END:VTIMEZONE
BEGIN:VEVENT
DTSTART;VALUE=DATE:20220131
DTEND;VALUE=DATE:20220204
DTSTAMP:20260423T021152
CREATED:20211216T185918Z
LAST-MODIFIED:20211216T190616Z
UID:1278-1643587200-1643932799@cnrwa.com
SUMMARY:2022 Nevada Water Resources Association Annual Conference Week
DESCRIPTION:
URL:https://cnrwa.com/event/2022-nevada-water-resources-association-annual-conference-week/
LOCATION:Tuscany Suites and Casino\, 255 East Flamingo Road\, Las Vegas\, Nevada
ORGANIZER;CN="Nevada Water Resources Assoc.":MAILTO:nevadawaterresources@gmail.com
END:VEVENT
END:VCALENDAR