BEGIN:VCALENDAR
VERSION:2.0
PRODID:-//Central Nevada Regional Water Authority - ECPv6.15.20//NONSGML v1.0//EN
CALSCALE:GREGORIAN
METHOD:PUBLISH
X-WR-CALNAME:Central Nevada Regional Water Authority
X-ORIGINAL-URL:https://cnrwa.com
X-WR-CALDESC:Events for Central Nevada Regional Water Authority
REFRESH-INTERVAL;VALUE=DURATION:PT1H
X-Robots-Tag:noindex
X-PUBLISHED-TTL:PT1H
BEGIN:VTIMEZONE
TZID:America/Los_Angeles
BEGIN:DAYLIGHT
TZOFFSETFROM:-0800
TZOFFSETTO:-0700
TZNAME:PDT
DTSTART:20230312T100000
END:DAYLIGHT
BEGIN:STANDARD
TZOFFSETFROM:-0700
TZOFFSETTO:-0800
TZNAME:PST
DTSTART:20231105T090000
END:STANDARD
BEGIN:DAYLIGHT
TZOFFSETFROM:-0800
TZOFFSETTO:-0700
TZNAME:PDT
DTSTART:20240310T100000
END:DAYLIGHT
BEGIN:STANDARD
TZOFFSETFROM:-0700
TZOFFSETTO:-0800
TZNAME:PST
DTSTART:20241103T090000
END:STANDARD
BEGIN:DAYLIGHT
TZOFFSETFROM:-0800
TZOFFSETTO:-0700
TZNAME:PDT
DTSTART:20250309T100000
END:DAYLIGHT
BEGIN:STANDARD
TZOFFSETFROM:-0700
TZOFFSETTO:-0800
TZNAME:PST
DTSTART:20251102T090000
END:STANDARD
END:VTIMEZONE
BEGIN:VEVENT
DTSTART;TZID=America/Los_Angeles:20241206T100000
DTEND;TZID=America/Los_Angeles:20241206T130000
DTSTAMP:20260420T032733
CREATED:20241125T012400Z
LAST-MODIFIED:20241125T012400Z
UID:1696-1733479200-1733490000@cnrwa.com
SUMMARY:CNRWA Board of Directors Meeting
DESCRIPTION:Topic: CNRWA\nTime: Dec 6\, 2024 10:00 AM Pacific Time (US and Canada) \nJoin Zoom Meeting\nhttps://us02web.zoom.us/j/81007314994?pwd=0WqLbMnx58Xg0gTgmvRYzQ0IJpspGs.1 \nMeeting ID: 810 0731 4994\nPasscode: 458099 \nDial:  +1-669-900-6833
URL:https://cnrwa.com/event/cnrwa-board-of-directors-meeting/
LOCATION:Virtual
END:VEVENT
END:VCALENDAR