BEGIN:VCALENDAR
VERSION:2.0
PRODID:-//Central Nevada Regional Water Authority - ECPv6.15.20//NONSGML v1.0//EN
CALSCALE:GREGORIAN
METHOD:PUBLISH
X-ORIGINAL-URL:https://cnrwa.com
X-WR-CALDESC:Events for Central Nevada Regional Water Authority
REFRESH-INTERVAL;VALUE=DURATION:PT1H
X-Robots-Tag:noindex
X-PUBLISHED-TTL:PT1H
BEGIN:VTIMEZONE
TZID:America/Los_Angeles
BEGIN:DAYLIGHT
TZOFFSETFROM:-0800
TZOFFSETTO:-0700
TZNAME:PDT
DTSTART:20200308T100000
END:DAYLIGHT
BEGIN:STANDARD
TZOFFSETFROM:-0700
TZOFFSETTO:-0800
TZNAME:PST
DTSTART:20201101T090000
END:STANDARD
BEGIN:DAYLIGHT
TZOFFSETFROM:-0800
TZOFFSETTO:-0700
TZNAME:PDT
DTSTART:20210314T100000
END:DAYLIGHT
BEGIN:STANDARD
TZOFFSETFROM:-0700
TZOFFSETTO:-0800
TZNAME:PST
DTSTART:20211107T090000
END:STANDARD
BEGIN:DAYLIGHT
TZOFFSETFROM:-0800
TZOFFSETTO:-0700
TZNAME:PDT
DTSTART:20220313T100000
END:DAYLIGHT
BEGIN:STANDARD
TZOFFSETFROM:-0700
TZOFFSETTO:-0800
TZNAME:PST
DTSTART:20221106T090000
END:STANDARD
END:VTIMEZONE
BEGIN:VEVENT
DTSTART;TZID=America/Los_Angeles:20210514T100000
DTEND;TZID=America/Los_Angeles:20210514T130000
DTSTAMP:20260423T134336
CREATED:20210225T011538Z
LAST-MODIFIED:20210225T011538Z
UID:1057-1620986400-1620997200@cnrwa.com
SUMMARY:Humboldt River Basin Water Authority Board meeting
DESCRIPTION:
URL:https://cnrwa.com/event/humboldt-river-basin-water-authority-board-meeting/
END:VEVENT
BEGIN:VEVENT
DTSTART;TZID=America/Los_Angeles:20210521T140000
DTEND;TZID=America/Los_Angeles:20210521T150000
DTSTAMP:20260423T134336
CREATED:20210413T152712Z
LAST-MODIFIED:20210413T152712Z
UID:1122-1621605600-1621609200@cnrwa.com
SUMMARY:CNRWA Virtual Meeting
DESCRIPTION:
URL:https://cnrwa.com/event/cnrwa-virtual-meeting/
LOCATION:Virtual
END:VEVENT
BEGIN:VEVENT
DTSTART;TZID=America/Los_Angeles:20210524T110000
DTEND;TZID=America/Los_Angeles:20210524T120000
DTSTAMP:20260423T134336
CREATED:20210506T015139Z
LAST-MODIFIED:20210506T015820Z
UID:1139-1621854000-1621857600@cnrwa.com
SUMMARY:Drought Update and Wildfire Outlook Webinar for California and the Southwest
DESCRIPTION:The Drought Update and Wildfire Outlook Webinar for California and the Southwest is designed to provide stakeholders and other interested parties in the region with timely information on the current drought status and outlook and wildland fire potential outlook. \nThis webinar is a special joint region webinar\, combining the California-Nevada Drought Early Warning System Drought & Climate Outlook Webinar Series and Southwest Drought Briefings\, which are produced by the Intermountain West Drought Early Warning System and the USDA Southwest Climate Hub.
URL:https://cnrwa.com/event/drought-update-and-wildfire-outlook-webinar-for-california-and-the-southwest/
LOCATION:Virtual
END:VEVENT
END:VCALENDAR