BEGIN:VCALENDAR
VERSION:2.0
PRODID:-//Central Nevada Regional Water Authority - ECPv6.15.20//NONSGML v1.0//EN
CALSCALE:GREGORIAN
METHOD:PUBLISH
X-ORIGINAL-URL:https://cnrwa.com
X-WR-CALDESC:Events for Central Nevada Regional Water Authority
REFRESH-INTERVAL;VALUE=DURATION:PT1H
X-Robots-Tag:noindex
X-PUBLISHED-TTL:PT1H
BEGIN:VTIMEZONE
TZID:America/Los_Angeles
BEGIN:DAYLIGHT
TZOFFSETFROM:-0800
TZOFFSETTO:-0700
TZNAME:PDT
DTSTART:20210314T100000
END:DAYLIGHT
BEGIN:STANDARD
TZOFFSETFROM:-0700
TZOFFSETTO:-0800
TZNAME:PST
DTSTART:20211107T090000
END:STANDARD
BEGIN:DAYLIGHT
TZOFFSETFROM:-0800
TZOFFSETTO:-0700
TZNAME:PDT
DTSTART:20220313T100000
END:DAYLIGHT
BEGIN:STANDARD
TZOFFSETFROM:-0700
TZOFFSETTO:-0800
TZNAME:PST
DTSTART:20221106T090000
END:STANDARD
BEGIN:DAYLIGHT
TZOFFSETFROM:-0800
TZOFFSETTO:-0700
TZNAME:PDT
DTSTART:20230312T100000
END:DAYLIGHT
BEGIN:STANDARD
TZOFFSETFROM:-0700
TZOFFSETTO:-0800
TZNAME:PST
DTSTART:20231105T090000
END:STANDARD
END:VTIMEZONE
BEGIN:VEVENT
DTSTART;VALUE=DATE:20220131
DTEND;VALUE=DATE:20220204
DTSTAMP:20260423T004957
CREATED:20211216T185918Z
LAST-MODIFIED:20211216T190616Z
UID:1278-1643587200-1643932799@cnrwa.com
SUMMARY:2022 Nevada Water Resources Association Annual Conference Week
DESCRIPTION:
URL:https://cnrwa.com/event/2022-nevada-water-resources-association-annual-conference-week/
LOCATION:Tuscany Suites and Casino\, 255 East Flamingo Road\, Las Vegas\, Nevada
ORGANIZER;CN="Nevada Water Resources Assoc.":MAILTO:nevadawaterresources@gmail.com
END:VEVENT
BEGIN:VEVENT
DTSTART;TZID=America/Los_Angeles:20220131T080000
DTEND;TZID=America/Los_Angeles:20220201T140000
DTSTAMP:20260423T004957
CREATED:20211104T024420Z
LAST-MODIFIED:20211104T024701Z
UID:1251-1643616000-1643724000@cnrwa.com
SUMMARY:Water Rights & Advanced Water Rights in Nevada Classes
DESCRIPTION:
URL:https://cnrwa.com/event/water-rights-advanced-water-rights-in-nevada-classes/
LOCATION:Tuscany Suites and Casino\, 255 East Flamingo Road\, Las Vegas\, Nevada
ORGANIZER;CN="Nevada Water Resources Assoc.":MAILTO:nevadawaterresources@gmail.com
END:VEVENT
BEGIN:VEVENT
DTSTART;TZID=America/Los_Angeles:20220209T090000
DTEND;TZID=America/Los_Angeles:20220209T110000
DTSTAMP:20260423T004957
CREATED:20211229T172937Z
LAST-MODIFIED:20211229T172937Z
UID:1303-1644397200-1644404400@cnrwa.com
SUMMARY:Drought in Nevada Workshop Series - Drought Outreach and Communication Strategies
DESCRIPTION:
URL:https://cnrwa.com/event/drought-in-nevada-workshop-series-drought-outreach-and-communication-strategies/
LOCATION:Virtual
END:VEVENT
BEGIN:VEVENT
DTSTART;TZID=America/Los_Angeles:20220209T170000
DTEND;TZID=America/Los_Angeles:20220209T170000
DTSTAMP:20260423T004957
CREATED:20220114T182708Z
LAST-MODIFIED:20220114T182708Z
UID:1315-1644426000-1644426000@cnrwa.com
SUMMARY:Pine Valley Water Supply DEIS public meeting
DESCRIPTION:
URL:https://cnrwa.com/event/pine-valley-water-supply-deis-public-meeting/
LOCATION:Virtual
END:VEVENT
BEGIN:VEVENT
DTSTART;TZID=America/Los_Angeles:20220209T170000
DTEND;TZID=America/Los_Angeles:20220209T170000
DTSTAMP:20260423T004957
CREATED:20220207T045628Z
LAST-MODIFIED:20220207T045628Z
UID:1320-1644426000-1644426000@cnrwa.com
SUMMARY:Pine Valley water supply EIS on-line public meeting
DESCRIPTION:
URL:https://cnrwa.com/event/pine-valley-water-supply-eis-on-line-public-meeting/
LOCATION:Virtual
END:VEVENT
BEGIN:VEVENT
DTSTART;TZID=America/Los_Angeles:20220210T090000
DTEND;TZID=America/Los_Angeles:20220210T090000
DTSTAMP:20260423T004957
CREATED:20220207T045732Z
LAST-MODIFIED:20220207T045732Z
UID:1322-1644483600-1644483600@cnrwa.com
SUMMARY:Pine Valley water supply EIS on-line public meeting
DESCRIPTION:
URL:https://cnrwa.com/event/pine-valley-water-supply-eis-on-line-public-meeting-2/
LOCATION:Virtual
END:VEVENT
BEGIN:VEVENT
DTSTART;TZID=America/Los_Angeles:20220211T100000
DTEND;TZID=America/Los_Angeles:20220211T130000
DTSTAMP:20260423T004957
CREATED:20211216T185645Z
LAST-MODIFIED:20211216T185645Z
UID:1276-1644573600-1644584400@cnrwa.com
SUMMARY:Central Nevada Regional Water Authority Board Meeting
DESCRIPTION:
URL:https://cnrwa.com/event/central-nevada-regional-water-authority-board-meeting-3/
LOCATION:Churchill County Administration Building\, 155 N. Taylor Street\, Fallon
END:VEVENT
BEGIN:VEVENT
DTSTART;TZID=America/Los_Angeles:20220216T090000
DTEND;TZID=America/Los_Angeles:20220216T110000
DTSTAMP:20260423T004957
CREATED:20211229T173058Z
LAST-MODIFIED:20211229T173058Z
UID:1305-1645002000-1645009200@cnrwa.com
SUMMARY:Drought in Nevada Workshop Series - Drought Resources\, Funding\, and Projects
DESCRIPTION:
URL:https://cnrwa.com/event/drought-in-nevada-workshop-series-drought-resources-funding-and-projects/
LOCATION:Virtual
END:VEVENT
END:VCALENDAR