BEGIN:VCALENDAR
VERSION:2.0
PRODID:-//Central Nevada Regional Water Authority - ECPv6.15.20//NONSGML v1.0//EN
CALSCALE:GREGORIAN
METHOD:PUBLISH
X-WR-CALNAME:Central Nevada Regional Water Authority
X-ORIGINAL-URL:https://cnrwa.com
X-WR-CALDESC:Events for Central Nevada Regional Water Authority
REFRESH-INTERVAL;VALUE=DURATION:PT1H
X-Robots-Tag:noindex
X-PUBLISHED-TTL:PT1H
BEGIN:VTIMEZONE
TZID:America/Los_Angeles
BEGIN:DAYLIGHT
TZOFFSETFROM:-0800
TZOFFSETTO:-0700
TZNAME:PDT
DTSTART:20230312T100000
END:DAYLIGHT
BEGIN:STANDARD
TZOFFSETFROM:-0700
TZOFFSETTO:-0800
TZNAME:PST
DTSTART:20231105T090000
END:STANDARD
BEGIN:DAYLIGHT
TZOFFSETFROM:-0800
TZOFFSETTO:-0700
TZNAME:PDT
DTSTART:20240310T100000
END:DAYLIGHT
BEGIN:STANDARD
TZOFFSETFROM:-0700
TZOFFSETTO:-0800
TZNAME:PST
DTSTART:20241103T090000
END:STANDARD
BEGIN:DAYLIGHT
TZOFFSETFROM:-0800
TZOFFSETTO:-0700
TZNAME:PDT
DTSTART:20250309T100000
END:DAYLIGHT
BEGIN:STANDARD
TZOFFSETFROM:-0700
TZOFFSETTO:-0800
TZNAME:PST
DTSTART:20251102T090000
END:STANDARD
END:VTIMEZONE
BEGIN:VEVENT
DTSTART;TZID=America/Los_Angeles:20241202T150000
DTEND;TZID=America/Los_Angeles:20241202T160000
DTSTAMP:20260420T021439
CREATED:20241125T012037Z
LAST-MODIFIED:20241125T012037Z
UID:1693-1733151600-1733155200@cnrwa.com
SUMMARY:CNRWA Legislative Committee
DESCRIPTION:Topic: CNRWA Leg. Committee\nTime: Dec 2\, 2024 03:00 PM Pacific Time (US and Canada) \nJoin Zoom Meeting\nhttps://us02web.zoom.us/j/85403501706?pwd=Obq0cMBoyEIgbAGJF3pAehO7D17i52.1 \nMeeting ID: 854 0350 1706\nPasscode: 325880 \nDial: +1-669-900-6833
URL:https://cnrwa.com/event/cnrwa-legislative-committee/
LOCATION:Virtual
END:VEVENT
BEGIN:VEVENT
DTSTART;TZID=America/Los_Angeles:20241206T100000
DTEND;TZID=America/Los_Angeles:20241206T130000
DTSTAMP:20260420T021439
CREATED:20241125T012400Z
LAST-MODIFIED:20241125T012400Z
UID:1696-1733479200-1733490000@cnrwa.com
SUMMARY:CNRWA Board of Directors Meeting
DESCRIPTION:Topic: CNRWA\nTime: Dec 6\, 2024 10:00 AM Pacific Time (US and Canada) \nJoin Zoom Meeting\nhttps://us02web.zoom.us/j/81007314994?pwd=0WqLbMnx58Xg0gTgmvRYzQ0IJpspGs.1 \nMeeting ID: 810 0731 4994\nPasscode: 458099 \nDial:  +1-669-900-6833
URL:https://cnrwa.com/event/cnrwa-board-of-directors-meeting/
LOCATION:Virtual
END:VEVENT
BEGIN:VEVENT
DTSTART;TZID=America/Los_Angeles:20241217T080000
DTEND;TZID=America/Los_Angeles:20241217T170000
DTSTAMP:20260420T021439
CREATED:20241211T180929Z
LAST-MODIFIED:20241211T180929Z
UID:1721-1734422400-1734454800@cnrwa.com
SUMMARY:Nevada Division of Water Resources Public Listening Session on Water Issues in Fallon
DESCRIPTION:The Nevada Division of Water Resources (NDWR) and the State Engineer will host a public\nlistening session on December 17\, 2024\, in Fallon\, Nevada. This session invites community\nmembers to share comments\, offer suggestions\, and ask questions about water-related issues in\nthe area. Community feedback is essential in helping the State Engineer and NDWR address\nNevada’s water needs effectively. \nAs part of a state-wide effort to engage the public in water resource management\, NDWR is\nhosting listening sessions to discuss challenges and strategies for managing Nevada’s critical\nwater resources. Fallon\, with its distinct hydrologic setting\, exemplifies the complex demands\nplaced on surface and groundwater supplies to meet municipal\, domestic\, industrial\, and\nagricultural needs. Community participation is strongly encouraged. \nThe Barrel House (formerly Multi-Purpose Building)\n225 Sheckler Road\nFallon\, NV 89406\nFor additional information call (775) 684-2800
URL:https://cnrwa.com/event/nevada-division-of-water-resources-public-listening-session-on-water-issues-in-fallon/
LOCATION:The Barrel House (formerly Multi-Purpose Building)\, 225 Sheckler Road\, Fallon
END:VEVENT
END:VCALENDAR